BEGIN:VCALENDAR
PRODID:-//SINGPromos.com//NONSGML v1.0//EN
VERSION:2.0
CALSCALE:GREGORIAN
METHOD:PUBLISH
X-WR-CALNAME:SINGPromos.com
X-ORIGINAL-URL:https://singpromos.com
X-WR-CALDESC:Events for SINGPromos.com
BEGIN:VEVENT
DTSTART:20160401T000000
DTEND:20160508T235900
DTSTAMP:20260422T081724
CREATED:20160330T165334
LAST-MODIFIED:20160330T165347
UID:175745@https://singpromos.com
SUMMARY:Desigual Mid Season Sale From 1 Apr - 8 May 2016
DESCRIPTION:Desigual will be starting their mid season Sale from 1 April. Enjoy up to 30% off selected items. For more information, visit [ https://singpromos.com/fashion-accessories/desigual-mid-season-sale-from-1-apr-8-may-2016-175745/ ]. 
LOCATION:098585
URL:https://singpromos.com/fashion-accessories/desigual-mid-season-sale-from-1-apr-8-may-2016-175745/
END:VEVENT
END:VCALENDAR