BEGIN:VCALENDAR
PRODID:-//SINGPromos.com//NONSGML v1.0//EN
VERSION:2.0
CALSCALE:GREGORIAN
METHOD:PUBLISH
X-WR-CALNAME:SINGPromos.com
X-ORIGINAL-URL:https://singpromos.com
X-WR-CALDESC:Events for SINGPromos.com
BEGIN:VEVENT
DTSTART:20160331T000000
DTEND:20160424T235900
DTSTAMP:20260420T061925
CREATED:20160331T120731
LAST-MODIFIED:20160331T120811
UID:175801@https://singpromos.com
SUMMARY:Massimo Dutti Mid Season Sale From 31 Mar - 24 Apr 2016
DESCRIPTION:Massimo Dutti has started their mid season sale. Enjoy up to 30% discount on selected items. For more information, visit [ https://singpromos.com/fashion-accessories/massimo-dutti-mid-season-sale-from-31-mar-24-apr-2016-175801/ ]. 
LOCATION:
URL:https://singpromos.com/fashion-accessories/massimo-dutti-mid-season-sale-from-31-mar-24-apr-2016-175801/
END:VEVENT
END:VCALENDAR