BEGIN:VCALENDAR
PRODID:-//SINGPromos.com//NONSGML v1.0//EN
VERSION:2.0
CALSCALE:GREGORIAN
METHOD:PUBLISH
X-WR-CALNAME:SINGPromos.com
X-ORIGINAL-URL:https://singpromos.com
X-WR-CALDESC:Events for SINGPromos.com
BEGIN:VEVENT
DTSTART:20160331T000000
DTEND:20160413T235900
DTSTAMP:20260420T051015
CREATED:20160401T075037
LAST-MODIFIED:20160401T015332
UID:175925@https://singpromos.com
SUMMARY:JLCSports Branded Sportswear Crazy Sale 31 Mar - 13 Apr 2016
DESCRIPTION:JLCSports is having a Branded Sportswear Crazy Sale from now till 13 April 2015 at Yew Tee Point, 10.00am to 9.30pm. For more information, visit [ https://singpromos.com/happenings/jlcsports-branded-sportswear-crazy-sale-31-mar-13-apr-2016-175925/ ]. 
LOCATION:769098
URL:https://singpromos.com/happenings/jlcsports-branded-sportswear-crazy-sale-31-mar-13-apr-2016-175925/
END:VEVENT
END:VCALENDAR