BEGIN:VCALENDAR
PRODID:-//SINGPromos.com//NONSGML v1.0//EN
VERSION:2.0
CALSCALE:GREGORIAN
METHOD:PUBLISH
X-WR-CALNAME:SINGPromos.com
X-ORIGINAL-URL:https://singpromos.com
X-WR-CALDESC:Events for SINGPromos.com
BEGIN:VEVENT
DTSTART:20160408T000000
DTEND:20160409T235900
DTSTAMP:20260422T082135
CREATED:20160406T144150
LAST-MODIFIED:20160406T144646
UID:176362@https://singpromos.com
SUMMARY:FitFlop Warehouse Sale 8 - 9 Apr 2016
DESCRIPTION:FitFlop will be having a Warehouse Sale featuring past season and sample stocks to clear from 8 to 9 April 2016 at Citilink Warehouse. No registration required, while stock lasts. For more information, visit [ https://singpromos.com/warehouse-sales/fitflop-warehouse-sale-8-9-apr-2016-176362/ ]. 
LOCATION:118530
URL:https://singpromos.com/warehouse-sales/fitflop-warehouse-sale-8-9-apr-2016-176362/
END:VEVENT
END:VCALENDAR