BEGIN:VCALENDAR
PRODID:-//SINGPromos.com//NONSGML v1.0//EN
VERSION:2.0
CALSCALE:GREGORIAN
METHOD:PUBLISH
X-WR-CALNAME:SINGPromos.com
X-ORIGINAL-URL:https://singpromos.com
X-WR-CALDESC:Events for SINGPromos.com
BEGIN:VEVENT
DTSTART:20160404T000000
DTEND:20160418T235900
DTSTAMP:20260420T040700
CREATED:20160407T123948
LAST-MODIFIED:20160407T124104
UID:176559@https://singpromos.com
SUMMARY:Malaysia Airlines 1-for-1 Ten Business Class Fares Promo 4 - 18 Apr 2016
DESCRIPTION:Get two business class tickets for the price of one. Treat yourself to a Malaysia Airlines Business Class flight and bring a companion along - all for the price of one.. For more information, visit [ https://singpromos.com/airlines-flights/malaysia-airlines-1-for-1-ten-business-class-fares-promo-4-18-apr-2016-176559/ ]. 
LOCATION:
URL:https://singpromos.com/airlines-flights/malaysia-airlines-1-for-1-ten-business-class-fares-promo-4-18-apr-2016-176559/
END:VEVENT
END:VCALENDAR