BEGIN:VCALENDAR
PRODID:-//SINGPromos.com//NONSGML v1.0//EN
VERSION:2.0
CALSCALE:GREGORIAN
METHOD:PUBLISH
X-WR-CALNAME:SINGPromos.com
X-ORIGINAL-URL:https://singpromos.com
X-WR-CALDESC:Events for SINGPromos.com
BEGIN:VEVENT
DTSTART:20160401T000000
DTEND:20160430T235900
DTSTAMP:20260422T082306
CREATED:20160407T173121
LAST-MODIFIED:20160407T173349
UID:176587@https://singpromos.com
SUMMARY:Tony Roma's $20 off $50 Spend Coupon 1 - 30 Apr 2016
DESCRIPTION:Feeling stress over filing your taxes by 15 April? Let Tony Roma's help relief your stress by offering you $20 off their world famous pork ribs and other flame-grilled specialties. For more information, visit [ https://singpromos.com/dining-restaurants-food/tony-romas-20-off-50-spend-coupon-1-30-apr-2016-176587/ ]. 
LOCATION:
URL:https://singpromos.com/dining-restaurants-food/tony-romas-20-off-50-spend-coupon-1-30-apr-2016-176587/
END:VEVENT
END:VCALENDAR