BEGIN:VCALENDAR
PRODID:-//SINGPromos.com//NONSGML v1.0//EN
VERSION:2.0
CALSCALE:GREGORIAN
METHOD:PUBLISH
X-WR-CALNAME:SINGPromos.com
X-ORIGINAL-URL:https://singpromos.com
X-WR-CALDESC:Events for SINGPromos.com
BEGIN:VEVENT
DTSTART:20160411T000000
DTEND:20160424T235900
DTSTAMP:20260420T231340
CREATED:20160411T011241
LAST-MODIFIED:20160411T011254
UID:176774@https://singpromos.com
SUMMARY:Air Asia Go 3D2N fr $90/pax (Hotel, Flights & Taxes) 11 - 24 Apr 2016
DESCRIPTION:Air Asia Go is having a weekend getaway promotion. Grab a 3D2N hotel + flights + taxes vacation from just $90/pax.. For more information, visit [ https://singpromos.com/vacations/air-asia-go-3d2n-fr-90pax-hotel-flights-taxes-11-24-apr-2016-176774/ ]. 
LOCATION:
URL:https://singpromos.com/vacations/air-asia-go-3d2n-fr-90pax-hotel-flights-taxes-11-24-apr-2016-176774/
END:VEVENT
END:VCALENDAR