BEGIN:VCALENDAR
PRODID:-//SINGPromos.com//NONSGML v1.0//EN
VERSION:2.0
CALSCALE:GREGORIAN
METHOD:PUBLISH
X-WR-CALNAME:SINGPromos.com
X-ORIGINAL-URL:https://singpromos.com
X-WR-CALDESC:Events for SINGPromos.com
BEGIN:VEVENT
DTSTART:20111104T000000
DTEND:20111124T235900
DTSTAMP:20260422T082148
CREATED:20111031T222605
LAST-MODIFIED:20111031T222605
UID:17692@https://singpromos.com
SUMMARY:Isetan White Wonder Christmas Special Offers 4 - 24 Nov 2011
DESCRIPTION:Come and celebrate a wonderful Christmas with Isetan. There's a range of frilled blouses, laced dresses, classic timeless pieces, new labels, cosmetics, decoratives and more. For more information, visit [ https://singpromos.com/fashion-accessories/isetan-white-wonder-christmas-special-offers-4-24-nov-2011-17692/ ]. 
LOCATION:
URL:https://singpromos.com/fashion-accessories/isetan-white-wonder-christmas-special-offers-4-24-nov-2011-17692/
END:VEVENT
END:VCALENDAR