BEGIN:VCALENDAR
PRODID:-//SINGPromos.com//NONSGML v1.0//EN
VERSION:2.0
CALSCALE:GREGORIAN
METHOD:PUBLISH
X-WR-CALNAME:SINGPromos.com
X-ORIGINAL-URL:https://singpromos.com
X-WR-CALDESC:Events for SINGPromos.com
BEGIN:VEVENT
DTSTART:20160415T000000
DTEND:20160421T235900
DTSTAMP:20260422T202214
CREATED:20160415T021837
LAST-MODIFIED:20160415T124505
UID:177064@https://singpromos.com
SUMMARY:Cold Storage Haagen Dazs 2 for $19.99, Magnum Mini, Coca-Cola Light & More 15 - 21 Apr 2016
DESCRIPTION:Check out Cold Storage's latest weekly offers featuring two tubs of Haagen-Dazs ice cream assorted for $19.99 (U.P. $29) till 17 Apr, 27% off Magnum Mini ice cream, 25% off Coca-Cola light, SCS butter and more. For more information, visit [ https://singpromos.com/dining-restaurants-food/cold-storage-haagen-dazs-2-for-19-99-magnum-mini-coca-cola-light-more-15-21-apr-2016-177064/ ]. 
LOCATION:
URL:https://singpromos.com/dining-restaurants-food/cold-storage-haagen-dazs-2-for-19-99-magnum-mini-coca-cola-light-more-15-21-apr-2016-177064/
END:VEVENT
END:VCALENDAR