BEGIN:VCALENDAR
PRODID:-//SINGPromos.com//NONSGML v1.0//EN
VERSION:2.0
CALSCALE:GREGORIAN
METHOD:PUBLISH
X-WR-CALNAME:SINGPromos.com
X-ORIGINAL-URL:https://singpromos.com
X-WR-CALDESC:Events for SINGPromos.com
BEGIN:VEVENT
DTSTART:20160417T000000
DTEND:20160418T235900
DTSTAMP:20260420T001414
CREATED:20160417T132221
LAST-MODIFIED:20160417T132304
UID:177175@https://singpromos.com
SUMMARY:Braun 65% Off Series 3 3040 Men's Electric Foil Shaver Wet/Dry 24hr Promo 17 - 18 Apr 2016
DESCRIPTION:Get the Braun Series 3 3040 Men's Electric Foil Shaver Wet/Dry at 65% off. With MicroComb technology the Series 3 catches and feeds more hair into the cutting parts, for a faster shave than ever before.. For more information, visit [ https://singpromos.com/personal-care/braun-65-off-series-3-3040-mens-electric-foil-shaver-wetdry-24hr-promo-17-18-apr-2016-177175/ ]. 
LOCATION:
URL:https://singpromos.com/personal-care/braun-65-off-series-3-3040-mens-electric-foil-shaver-wetdry-24hr-promo-17-18-apr-2016-177175/
END:VEVENT
END:VCALENDAR