BEGIN:VCALENDAR
PRODID:-//SINGPromos.com//NONSGML v1.0//EN
VERSION:2.0
CALSCALE:GREGORIAN
METHOD:PUBLISH
X-WR-CALNAME:SINGPromos.com
X-ORIGINAL-URL:https://singpromos.com
X-WR-CALDESC:Events for SINGPromos.com
BEGIN:VEVENT
DTSTART:20160418T000000
DTEND:20160424T235900
DTSTAMP:20260420T050919
CREATED:20160418T105428
LAST-MODIFIED:20160421T163858
UID:177204@https://singpromos.com
SUMMARY:JLCSports Branded Sportswear Crazy Sale 18 - 24 Apr 2016
DESCRIPTION:JLCSports is having a Branded Sportswear Crazy Sale from now till 24 April 2016 at Eastpoint Mall, 10am to 9pm. Enjoy up to 70% off Adidas, Asics, Puma and Reebok. For more information, visit [ https://singpromos.com/happenings/jlcsports-branded-sportswear-crazy-sale-18-24-apr-2016-177204/ ]. 
LOCATION:528833
URL:https://singpromos.com/happenings/jlcsports-branded-sportswear-crazy-sale-18-24-apr-2016-177204/
END:VEVENT
END:VCALENDAR