BEGIN:VCALENDAR
PRODID:-//SINGPromos.com//NONSGML v1.0//EN
VERSION:2.0
CALSCALE:GREGORIAN
METHOD:PUBLISH
X-WR-CALNAME:SINGPromos.com
X-ORIGINAL-URL:https://singpromos.com
X-WR-CALDESC:Events for SINGPromos.com
BEGIN:VEVENT
DTSTART:20160423T000000
DTEND:20160430T235900
DTSTAMP:20260419T230559
CREATED:20160423T093335
LAST-MODIFIED:20160423T100435
UID:177576@https://singpromos.com
SUMMARY:Mad for Garlic 33% to 50% Off $30 Cash Voucher From 23 - 30 Apr 2016
DESCRIPTION:In celebration of the Administrative Professionals Week, Mad for Garlic is offering two fantastic deals from 24 April to 30 April that allow you to enjoy up to 50% discount on $30 Vouchers.. For more information, visit [ https://singpromos.com/dining-restaurants-food/mad-for-garlic-33-to-50-off-30-cash-voucher-from-23-30-apr-2016-177576/ ]. 
LOCATION:038983
URL:https://singpromos.com/dining-restaurants-food/mad-for-garlic-33-to-50-off-30-cash-voucher-from-23-30-apr-2016-177576/
END:VEVENT
END:VCALENDAR