BEGIN:VCALENDAR
PRODID:-//SINGPromos.com//NONSGML v1.0//EN
VERSION:2.0
CALSCALE:GREGORIAN
METHOD:PUBLISH
X-WR-CALNAME:SINGPromos.com
X-ORIGINAL-URL:https://singpromos.com
X-WR-CALDESC:Events for SINGPromos.com
BEGIN:VEVENT
DTSTART:20160425T000000
DTEND:20160427T235900
DTSTAMP:20260422T082313
CREATED:20160425T002551
LAST-MODIFIED:20160425T002601
UID:177614@https://singpromos.com
SUMMARY:Comfort Taxis $5 Off Fare Promo Code from 25 - 27 Apr 2016
DESCRIPTION:Comfort Taxis celebrates GOSF with a special promotion. Get $5 off your taxi fare when you book via ComfortDelGro Taxi Booking App and use promo code "GOSF5". For more information, visit [ https://singpromos.com/motor-vehicles/comfort-taxis-5-off-fare-promo-code-from-25-27-apr-2016-177614/ ]. 
LOCATION:
URL:https://singpromos.com/motor-vehicles/comfort-taxis-5-off-fare-promo-code-from-25-27-apr-2016-177614/
END:VEVENT
END:VCALENDAR