BEGIN:VCALENDAR
PRODID:-//SINGPromos.com//NONSGML v1.0//EN
VERSION:2.0
CALSCALE:GREGORIAN
METHOD:PUBLISH
X-WR-CALNAME:SINGPromos.com
X-ORIGINAL-URL:https://singpromos.com
X-WR-CALDESC:Events for SINGPromos.com
BEGIN:VEVENT
DTSTART:20160427T000000
DTEND:20160512T235900
DTSTAMP:20260420T051015
CREATED:20160427T113326
LAST-MODIFIED:20160427T133945
UID:177835@https://singpromos.com
SUMMARY:Cathay Pacific fr $178 Two-to-go Promo Fares to over 40 Destinations for NTUC Members from 27 Apr - 12 May 2016
DESCRIPTION:Travel to over 40 destinations from $178 all-inclusive with Cathay Pacific exclusively for NTUC Plus! members. Book your trip from 27 April - 12 May 2016 and travel by 31 March 2017. For more information, visit [ https://singpromos.com/airlines-flights/cathay-pacific-fr-178-two-to-go-promo-fares-to-over-40-destinations-for-ntuc-members-from-27-apr-12-may-2016-177835/ ]. 
LOCATION:
URL:https://singpromos.com/airlines-flights/cathay-pacific-fr-178-two-to-go-promo-fares-to-over-40-destinations-for-ntuc-members-from-27-apr-12-may-2016-177835/
END:VEVENT
END:VCALENDAR