BEGIN:VCALENDAR
PRODID:-//SINGPromos.com//NONSGML v1.0//EN
VERSION:2.0
CALSCALE:GREGORIAN
METHOD:PUBLISH
X-WR-CALNAME:SINGPromos.com
X-ORIGINAL-URL:https://singpromos.com
X-WR-CALDESC:Events for SINGPromos.com
BEGIN:VEVENT
DTSTART:20160514T000000
DTEND:20160515T235900
DTSTAMP:20260420T001452
CREATED:20160503T001253
LAST-MODIFIED:20160429T201637
UID:178087@https://singpromos.com
SUMMARY:Electrolux Up to 70% off Family Sale from 14 - 15 May 2016
DESCRIPTION:Electrolux will be having a family sale from 14 May to 15 May 2016. Don't miss this golden opportunity to own Electrolux appliances at up to 70% discount!. For more information, visit [ https://singpromos.com/happenings/electrolux-up-to-70-off-family-sale-from-14-15-may-2016-178087/ ]. 
LOCATION:534233
URL:https://singpromos.com/happenings/electrolux-up-to-70-off-family-sale-from-14-15-may-2016-178087/
END:VEVENT
END:VCALENDAR