BEGIN:VCALENDAR
PRODID:-//SINGPromos.com//NONSGML v1.0//EN
VERSION:2.0
CALSCALE:GREGORIAN
METHOD:PUBLISH
X-WR-CALNAME:SINGPromos.com
X-ORIGINAL-URL:https://singpromos.com
X-WR-CALDESC:Events for SINGPromos.com
BEGIN:VEVENT
DTSTART:20160502T000000
DTEND:20160529T235900
DTSTAMP:20260420T053409
CREATED:20160502T102435
LAST-MODIFIED:20160502T012847
UID:178238@https://singpromos.com
SUMMARY:IKEA Promo Offers 2 - 29 May 2016
DESCRIPTION:Enjoy discounts you can take advantage of as a member of IKEA Family (membership is free). If you are not a member, sign-up for free as an IKEA FAMILY member in the store to get your Temporary Card before making your purchase.. For more information, visit [ https://singpromos.com/department-stores/ikea-promo-offers-2-29-may-2016-178238/ ]. 
LOCATION:
URL:https://singpromos.com/department-stores/ikea-promo-offers-2-29-may-2016-178238/
END:VEVENT
END:VCALENDAR