BEGIN:VCALENDAR
PRODID:-//SINGPromos.com//NONSGML v1.0//EN
VERSION:2.0
CALSCALE:GREGORIAN
METHOD:PUBLISH
X-WR-CALNAME:SINGPromos.com
X-ORIGINAL-URL:https://singpromos.com
X-WR-CALDESC:Events for SINGPromos.com
BEGIN:VEVENT
DTSTART:20160502T000000
DTEND:20160508T235900
DTSTAMP:20260420T050919
CREATED:20160503T115543
LAST-MODIFIED:20160503T184116
UID:178286@https://singpromos.com
SUMMARY:JLCSports Branded Sportswear Crazy Sale at Harbourfront Centre from 2 - 8 May 2016
DESCRIPTION:JLCSports is having a Branded Sportswear Crazy Sale from now till 8 May 2016 at Harbourfront Centre, 10am to 930pm. Enjoy up to 70% off Adidas, Asics, Puma and Reebok. For more information, visit [ https://singpromos.com/happenings/jlcsports-branded-sportswear-crazy-sale-from-2-8-may-2016-178286/ ]. 
LOCATION:099253
URL:https://singpromos.com/happenings/jlcsports-branded-sportswear-crazy-sale-from-2-8-may-2016-178286/
END:VEVENT
END:VCALENDAR