BEGIN:VCALENDAR
PRODID:-//SINGPromos.com//NONSGML v1.0//EN
VERSION:2.0
CALSCALE:GREGORIAN
METHOD:PUBLISH
X-WR-CALNAME:SINGPromos.com
X-ORIGINAL-URL:https://singpromos.com
X-WR-CALDESC:Events for SINGPromos.com
BEGIN:VEVENT
DTSTART:20160506T000000
DTEND:20160508T235900
DTSTAMP:20260420T044311
CREATED:20160506T200023
LAST-MODIFIED:20160506T200023
UID:178634@https://singpromos.com
SUMMARY:Uber $3 Off Two Rides Promo Code valid from 6 - 8 May 2016
DESCRIPTION:How well do you know the East? This weekend, re-discover the neighbourhood with Uber by enjoying two rides with $3 off each when you take a trip to or from these areas. For more information, visit [ https://singpromos.com/motor-vehicles/uber-3-off-two-rides-promo-code-valid-from-6-8-may-2016-178634/ ]. 
LOCATION:
URL:https://singpromos.com/motor-vehicles/uber-3-off-two-rides-promo-code-valid-from-6-8-may-2016-178634/
END:VEVENT
END:VCALENDAR