BEGIN:VCALENDAR
PRODID:-//SINGPromos.com//NONSGML v1.0//EN
VERSION:2.0
CALSCALE:GREGORIAN
METHOD:PUBLISH
X-WR-CALNAME:SINGPromos.com
X-ORIGINAL-URL:https://singpromos.com
X-WR-CALDESC:Events for SINGPromos.com
BEGIN:VEVENT
DTSTART:20160521T000000
DTEND:20160521T235900
DTSTAMP:20260422T082113
CREATED:20160511T193734
LAST-MODIFIED:20160507T133924
UID:178652@https://singpromos.com
SUMMARY:Timezone 100% Extra Double Dollar Promo on 21 May 2016
DESCRIPTION:Timezone's Double Dollar deal is back! Buy $30 and get an additional $30 free. For more information, visit [ https://singpromos.com/places-of-interest/timezone-100-extra-double-dollar-promo-on-21-may-2016-178652/ ]. 
LOCATION:
URL:https://singpromos.com/places-of-interest/timezone-100-extra-double-dollar-promo-on-21-may-2016-178652/
END:VEVENT
END:VCALENDAR