BEGIN:VCALENDAR
PRODID:-//SINGPromos.com//NONSGML v1.0//EN
VERSION:2.0
CALSCALE:GREGORIAN
METHOD:PUBLISH
X-WR-CALNAME:SINGPromos.com
X-ORIGINAL-URL:https://singpromos.com
X-WR-CALDESC:Events for SINGPromos.com
BEGIN:VEVENT
DTSTART:20160508T000000
DTEND:20160531T235900
DTSTAMP:20260420T175728
CREATED:20160508T033924
LAST-MODIFIED:20160507T214336
UID:178671@https://singpromos.com
SUMMARY:Norman Security Software 10% to 15% Off Coupon Codes from 8 - 31 May 2016
DESCRIPTION:Get up to 15% OFF on Norman Security Suite PRO, Security Suite, Antivirus and more. For more information, visit [ https://singpromos.com/computers-pc/norman-security-software-10-to-15-off-coupon-codes-from-8-31-may-2016-178671/ ]. 
LOCATION:
URL:https://singpromos.com/computers-pc/norman-security-software-10-to-15-off-coupon-codes-from-8-31-may-2016-178671/
END:VEVENT
END:VCALENDAR