BEGIN:VCALENDAR
PRODID:-//SINGPromos.com//NONSGML v1.0//EN
VERSION:2.0
CALSCALE:GREGORIAN
METHOD:PUBLISH
X-WR-CALNAME:SINGPromos.com
X-ORIGINAL-URL:https://singpromos.com
X-WR-CALDESC:Events for SINGPromos.com
BEGIN:VEVENT
DTSTART:20160513T000000
DTEND:20160522T235900
DTSTAMP:20260420T190536
CREATED:20160511T142235
LAST-MODIFIED:20160511T142956
UID:178835@https://singpromos.com
SUMMARY:NDP 2016 Tickets Application Dates & Procedures from 13 - 22 May 2016
DESCRIPTION:This year's National Day Parade (NDP) will be held at the National Stadium. Returning back to the iconic National Stadium after ten years, spectators will be able to see highlights of NDP 2016 appearing at NDP for the first time. For more information, visit [ https://singpromos.com/places-of-interest/ndp-2016-tickets-application-dates-procedures-from-13-22-may-2016-178835/ ]. 
LOCATION:
URL:https://singpromos.com/places-of-interest/ndp-2016-tickets-application-dates-procedures-from-13-22-may-2016-178835/
END:VEVENT
END:VCALENDAR