BEGIN:VCALENDAR
PRODID:-//SINGPromos.com//NONSGML v1.0//EN
VERSION:2.0
CALSCALE:GREGORIAN
METHOD:PUBLISH
X-WR-CALNAME:SINGPromos.com
X-ORIGINAL-URL:https://singpromos.com
X-WR-CALDESC:Events for SINGPromos.com
BEGIN:VEVENT
DTSTART:20160512T000000
DTEND:20160630T235900
DTSTAMP:20260422T032810
CREATED:20160512T171453
LAST-MODIFIED:20160512T171453
UID:178900@https://singpromos.com
SUMMARY:PhotobookJoy $3.99 Photo Books Promotion from 12 May - 30 Jun 2016
DESCRIPTION:PhotobookJoy Photo Books are beautifully handcrafted and printed on quality prints to help you remember every single detail of your momentous memories.. For more information, visit [ https://singpromos.com/books/photobookjoy-3-99-photo-books-promotion-from-12-may-30-jun-2016-178900/ ]. 
LOCATION:
URL:https://singpromos.com/books/photobookjoy-3-99-photo-books-promotion-from-12-may-30-jun-2016-178900/
END:VEVENT
END:VCALENDAR