BEGIN:VCALENDAR
PRODID:-//SINGPromos.com//NONSGML v1.0//EN
VERSION:2.0
CALSCALE:GREGORIAN
METHOD:PUBLISH
X-WR-CALNAME:SINGPromos.com
X-ORIGINAL-URL:https://singpromos.com
X-WR-CALDESC:Events for SINGPromos.com
BEGIN:VEVENT
DTSTART:20111103T000000
DTEND:20111109T235900
DTSTAMP:20260420T230420
CREATED:20111104T012203
LAST-MODIFIED:20111104T012203
UID:17891@https://singpromos.com
SUMMARY:Harvey Norman Notebooks Special Offers 3 - 9 Nov 2011
DESCRIPTION:Here is Harvey Norman's Mid Week tech savers, this time on computer notebooks. Models listed are Acer Aspire S755, Samsung 305U1A, Acer Aspire S3, ASUS N43SL29i5N64D7PM and Toshiba F750-1005X. For more information, visit [ https://singpromos.com/computers-pc/harvey-norman-notebooks-special-offers-3-9-nov-2011-17891/ ]. 
LOCATION:
URL:https://singpromos.com/computers-pc/harvey-norman-notebooks-special-offers-3-9-nov-2011-17891/
END:VEVENT
END:VCALENDAR