BEGIN:VCALENDAR
PRODID:-//SINGPromos.com//NONSGML v1.0//EN
VERSION:2.0
CALSCALE:GREGORIAN
METHOD:PUBLISH
X-WR-CALNAME:SINGPromos.com
X-ORIGINAL-URL:https://singpromos.com
X-WR-CALDESC:Events for SINGPromos.com
BEGIN:VEVENT
DTSTART:20111104T000000
DTEND:20111107T235900
DTSTAMP:20260422T082145
CREATED:20111104T014005
LAST-MODIFIED:20111104T014005
UID:17905@https://singpromos.com
SUMMARY:John Little 20% Off Sale 3 - 7 Nov 2011
DESCRIPTION:Irresistible savings, irresistable buys. With 20% off for all shoppers, that's how you would feel. It's only for 5 days only, 3 November to 7 November 2011, so hurry.. For more information, visit [ https://singpromos.com/fashion-accessories/john-little-20-off-sale-3-7-nov-2011-17905/ ]. 
LOCATION:
URL:https://singpromos.com/fashion-accessories/john-little-20-off-sale-3-7-nov-2011-17905/
END:VEVENT
END:VCALENDAR