BEGIN:VCALENDAR
PRODID:-//SINGPromos.com//NONSGML v1.0//EN
VERSION:2.0
CALSCALE:GREGORIAN
METHOD:PUBLISH
X-WR-CALNAME:SINGPromos.com
X-ORIGINAL-URL:https://singpromos.com
X-WR-CALDESC:Events for SINGPromos.com
BEGIN:VEVENT
DTSTART:20160514T000000
DTEND:20160829T235900
DTSTAMP:20260422T040157
CREATED:20160514T154206
LAST-MODIFIED:20160831T004026
UID:179056@https://singpromos.com
SUMMARY:Guardian $2 Off NO Min Spend Storewide Coupon Code from 14 May 2016
DESCRIPTION:Get $2 OFF discount at the Guardian online store. Guardian operates Singapore's largest health & beauty chain with 150 stores islandwide. Delivery fees are waived for any orders higher than $40.. For more information, visit [ https://singpromos.com/department-stores/guardian-2-off-no-min-spend-storewide-coupon-code-from-14-may-2016-179056/ ]. 
LOCATION:
URL:https://singpromos.com/department-stores/guardian-2-off-no-min-spend-storewide-coupon-code-from-14-may-2016-179056/
END:VEVENT
END:VCALENDAR