BEGIN:VCALENDAR
PRODID:-//SINGPromos.com//NONSGML v1.0//EN
VERSION:2.0
CALSCALE:GREGORIAN
METHOD:PUBLISH
X-WR-CALNAME:SINGPromos.com
X-ORIGINAL-URL:https://singpromos.com
X-WR-CALDESC:Events for SINGPromos.com
BEGIN:VEVENT
DTSTART:20160516T000000
DTEND:20160519T235900
DTSTAMP:20260422T082233
CREATED:20160516T145840
LAST-MODIFIED:20160520T224340
UID:179109@https://singpromos.com
SUMMARY:Comfort Taxis $8 Off Fare Promo Code (6pm to 6am) from 16 - 31 May 2016
DESCRIPTION:Get $8 off your taxi fare when you book via ComfortDelGro Taxi Booking App and use the promo code below. Valid for trips made from 16 to 31 May, from 6pm to 6am.. For more information, visit [ https://singpromos.com/motor-vehicles/comfort-taxis-8-off-fare-promo-code-6pm-to-6am-from-16-31-may-2016-179109/ ]. 
LOCATION:
URL:https://singpromos.com/motor-vehicles/comfort-taxis-8-off-fare-promo-code-6pm-to-6am-from-16-31-may-2016-179109/
END:VEVENT
END:VCALENDAR