BEGIN:VCALENDAR
PRODID:-//SINGPromos.com//NONSGML v1.0//EN
VERSION:2.0
CALSCALE:GREGORIAN
METHOD:PUBLISH
X-WR-CALNAME:SINGPromos.com
X-ORIGINAL-URL:https://singpromos.com
X-WR-CALDESC:Events for SINGPromos.com
BEGIN:VEVENT
DTSTART:20160610T000000
DTEND:20160612T235900
DTSTAMP:20260420T020918
CREATED:20160520T161041
LAST-MODIFIED:20160607T140151
UID:179157@https://singpromos.com
SUMMARY:Baby Baby Fair at Singapore Expo from 10 - 12 Jun 2016
DESCRIPTION:Baby Baby 2016 will be happening from 10 June to 12 June 2016 at Singapore Expo Hall 3, 11am-9pm daily. An event for new and expectant parents, Baby Baby showcases a wide variety of products and services under one roof!. For more information, visit [ https://singpromos.com/happenings/baby-baby-fair-at-singapore-expo-from-10-12-jun-2016-179157/ ]. 
LOCATION:486150
URL:https://singpromos.com/happenings/baby-baby-fair-at-singapore-expo-from-10-12-jun-2016-179157/
END:VEVENT
END:VCALENDAR