BEGIN:VCALENDAR
PRODID:-//SINGPromos.com//NONSGML v1.0//EN
VERSION:2.0
CALSCALE:GREGORIAN
METHOD:PUBLISH
X-WR-CALNAME:SINGPromos.com
X-ORIGINAL-URL:https://singpromos.com
X-WR-CALDESC:Events for SINGPromos.com
BEGIN:VEVENT
DTSTART:20160519T000000
DTEND:20160522T235900
DTSTAMP:20260420T044311
CREATED:20160521T123129
LAST-MODIFIED:20160521T143510
UID:179617@https://singpromos.com
SUMMARY:Bowers & Wilkins Biennial Sale from 19 - 22 May 2016
DESCRIPTION:Bowers & Wilkins is having their largest storewide sale that happens only once every 2 years featuring brand new and demo sets, while stocks last.. For more information, visit [ https://singpromos.com/audio-visual/bowers-wilkins-biennial-sale-from-19-22-may-2016-179617/ ]. 
LOCATION:
URL:https://singpromos.com/audio-visual/bowers-wilkins-biennial-sale-from-19-22-may-2016-179617/
END:VEVENT
END:VCALENDAR