BEGIN:VCALENDAR
PRODID:-//SINGPromos.com//NONSGML v1.0//EN
VERSION:2.0
CALSCALE:GREGORIAN
METHOD:PUBLISH
X-WR-CALNAME:SINGPromos.com
X-ORIGINAL-URL:https://singpromos.com
X-WR-CALDESC:Events for SINGPromos.com
BEGIN:VEVENT
DTSTART:20160606T000000
DTEND:20160610T235900
DTSTAMP:20260420T191407
CREATED:20160604T155708
LAST-MODIFIED:20160528T172718
UID:180321@https://singpromos.com
SUMMARY:Dunkin' Donuts $1 Donut + Americano Set (worth S$4.30) for UOB Cardmembers from 6 - 10 Jun 2016
DESCRIPTION:Enjoy S$1 Donut + Americano Set (worth S$4.30) at Dunkin' Donuts outlets from 6 - 10 June 2016 when you pay with UOB Mighty App or Apple Pay. For more information, visit [ https://singpromos.com/dining-restaurants-food/dunkin-donuts-1-donut-americano-set-worth-s4-30-for-uob-cardmembers-from-6-10-jun-2016-180321/ ]. 
LOCATION:
URL:https://singpromos.com/dining-restaurants-food/dunkin-donuts-1-donut-americano-set-worth-s4-30-for-uob-cardmembers-from-6-10-jun-2016-180321/
END:VEVENT
END:VCALENDAR