BEGIN:VCALENDAR
PRODID:-//SINGPromos.com//NONSGML v1.0//EN
VERSION:2.0
CALSCALE:GREGORIAN
METHOD:PUBLISH
X-WR-CALNAME:SINGPromos.com
X-ORIGINAL-URL:https://singpromos.com
X-WR-CALDESC:Events for SINGPromos.com
BEGIN:VEVENT
DTSTART:20111104T000000
DTEND:20111110T235900
DTSTAMP:20260422T082126
CREATED:20111105T035600
LAST-MODIFIED:20111105T035600
UID:18034@https://singpromos.com
SUMMARY:Dell Vostro Desktop PC & Vostro Notebook $50 Off Coupon Codes 4 - 10 Nov 2011
DESCRIPTION:Get $50 off Vostro 3350 notebook or Vostro 460 Mini Tower with this coupon number at Dell Singapore. . For more information, visit [ https://singpromos.com/computers-pc/dell-vostro-desktop-pc-vostro-notebook-50-off-coupon-codes-4-10-nov-2011-18034/ ]. 
LOCATION:
URL:https://singpromos.com/computers-pc/dell-vostro-desktop-pc-vostro-notebook-50-off-coupon-codes-4-10-nov-2011-18034/
END:VEVENT
END:VCALENDAR