BEGIN:VCALENDAR
PRODID:-//SINGPromos.com//NONSGML v1.0//EN
VERSION:2.0
CALSCALE:GREGORIAN
METHOD:PUBLISH
X-WR-CALNAME:SINGPromos.com
X-ORIGINAL-URL:https://singpromos.com
X-WR-CALDESC:Events for SINGPromos.com
BEGIN:VEVENT
DTSTART:20160530T000000
DTEND:20160703T235900
DTSTAMP:20260420T053436
CREATED:20160530T201719
LAST-MODIFIED:20160530T201816
UID:180498@https://singpromos.com
SUMMARY:IKEA Special Deals Offers from 30 May - 3 Jul 2016
DESCRIPTION:Enjoy discounts you can take advantage of as a member of IKEA Family (membership is free). If you are not a member, sign-up for free as an IKEA FAMILY member in the store to get your Temporary Card before making your purchase.. For more information, visit [ https://singpromos.com/department-stores/ikea-special-deals-offers-from-30-may-3-jul-2016-180498/ ]. 
LOCATION:
URL:https://singpromos.com/department-stores/ikea-special-deals-offers-from-30-may-3-jul-2016-180498/
END:VEVENT
END:VCALENDAR