BEGIN:VCALENDAR
PRODID:-//SINGPromos.com//NONSGML v1.0//EN
VERSION:2.0
CALSCALE:GREGORIAN
METHOD:PUBLISH
X-WR-CALNAME:SINGPromos.com
X-ORIGINAL-URL:https://singpromos.com
X-WR-CALDESC:Events for SINGPromos.com
BEGIN:VEVENT
DTSTART:20160602T000000
DTEND:20160605T235900
DTSTAMP:20260422T212733
CREATED:20160602T140715
LAST-MODIFIED:20160602T140715
UID:180775@https://singpromos.com
SUMMARY:M1 PC SHOW 2016 Home Broadband, Mobile & Other Offers from 2 - 5 Jun 2016
DESCRIPTION:Check out M1's PC Show 2016 mobile phones, tablets, home broadband and mobile broadband promotions and special offers valid till 5 June 2016.. For more information, visit [ https://singpromos.com/telecoms/m1-pc-show-2016-home-broadband-mobile-other-offers-from-2-5-jun-2016-180775/ ]. 
LOCATION:486150
URL:https://singpromos.com/telecoms/m1-pc-show-2016-home-broadband-mobile-other-offers-from-2-5-jun-2016-180775/
END:VEVENT
END:VCALENDAR