BEGIN:VCALENDAR
PRODID:-//SINGPromos.com//NONSGML v1.0//EN
VERSION:2.0
CALSCALE:GREGORIAN
METHOD:PUBLISH
X-WR-CALNAME:SINGPromos.com
X-ORIGINAL-URL:https://singpromos.com
X-WR-CALDESC:Events for SINGPromos.com
BEGIN:VEVENT
DTSTART:20160603T000000
DTEND:20160603T235900
DTSTAMP:20260420T191416
CREATED:20160603T165517
LAST-MODIFIED:20160603T165551
UID:180956@https://singpromos.com
SUMMARY:Dunkin' Donuts Buy Beverage & Get FREE Donut on 3 Jun 2016
DESCRIPTION:Dunkin Donuts celebrates Global Donut Day with a promotion - Get a FREE donut with any Dunkin' beverage purchase.. For more information, visit [ https://singpromos.com/dining-restaurants-food/dunkin-donuts-buy-beverage-get-free-donut-on-3-jun-2016-180956/ ]. 
LOCATION:
URL:https://singpromos.com/dining-restaurants-food/dunkin-donuts-buy-beverage-get-free-donut-on-3-jun-2016-180956/
END:VEVENT
END:VCALENDAR