BEGIN:VCALENDAR
PRODID:-//SINGPromos.com//NONSGML v1.0//EN
VERSION:2.0
CALSCALE:GREGORIAN
METHOD:PUBLISH
X-WR-CALNAME:SINGPromos.com
X-ORIGINAL-URL:https://singpromos.com
X-WR-CALDESC:Events for SINGPromos.com
BEGIN:VEVENT
DTSTART:20160604T000000
DTEND:20160619T235900
DTSTAMP:20260420T191417
CREATED:20160604T110429
LAST-MODIFIED:20160604T113816
UID:181046@https://singpromos.com
SUMMARY:Dunkin' Donuts 1-for-1 Hot/Iced Latte at All Outlets from 4 - 19 Jun 2016
DESCRIPTION:Dunkin' Donuts Singapore is celebrating 7 sensational years! Till 19 Jun, buy 1 hot or iced latte, and get the 2nd one free (1-for-1)!. For more information, visit [ https://singpromos.com/dining-restaurants-food/dunkin-donuts-1-for-1-hoticed-latte-from-4-19-jun-2016-181046/ ]. 
LOCATION:
URL:https://singpromos.com/dining-restaurants-food/dunkin-donuts-1-for-1-hoticed-latte-from-4-19-jun-2016-181046/
END:VEVENT
END:VCALENDAR