BEGIN:VCALENDAR
PRODID:-//SINGPromos.com//NONSGML v1.0//EN
VERSION:2.0
CALSCALE:GREGORIAN
METHOD:PUBLISH
X-WR-CALNAME:SINGPromos.com
X-ORIGINAL-URL:https://singpromos.com
X-WR-CALDESC:Events for SINGPromos.com
BEGIN:VEVENT
DTSTART:20160607T000000
DTEND:20160706T235900
DTSTAMP:20260420T053440
CREATED:20160604T180535
LAST-MODIFIED:20160604T180652
UID:181086@https://singpromos.com
SUMMARY:IKEA Restaurants fr $7.50 Dinner Specials from 7 Jun - 6 Jul 2016
DESCRIPTION:IKEA will be offering special dinner menus for the family to enjoy together. Enjoy savings on the Half Spring Chicken set ($8.50, U.P $9.40) or the Fish & Chips meal ($7.50, U.P $8.50). For more information, visit [ https://singpromos.com/dining-restaurants-food/ikea-restaurants-fr-7-50-dinner-specials-from-7-jun-6-jul-2016-181086/ ]. 
LOCATION:
URL:https://singpromos.com/dining-restaurants-food/ikea-restaurants-fr-7-50-dinner-specials-from-7-jun-6-jul-2016-181086/
END:VEVENT
END:VCALENDAR