BEGIN:VCALENDAR
PRODID:-//SINGPromos.com//NONSGML v1.0//EN
VERSION:2.0
CALSCALE:GREGORIAN
METHOD:PUBLISH
X-WR-CALNAME:SINGPromos.com
X-ORIGINAL-URL:https://singpromos.com
X-WR-CALDESC:Events for SINGPromos.com
BEGIN:VEVENT
DTSTART:20160601T000000
DTEND:20160619T235900
DTSTAMP:20260420T053440
CREATED:20160605T135931
LAST-MODIFIED:20160605T160128
UID:181093@https://singpromos.com
SUMMARY:IKEA $20 Swedish Midsummer Buffet Early Bird Tickets Available from 1 - 19 Jun 2016
DESCRIPTION:Enjoy a feast the Swedish way at the IKEA Midsummer Buffet happening on 24 June 2016, 5.30-7.30pm and 8-10pm. Tickets are available for purchase only at the IKEA Restaurant.. For more information, visit [ https://singpromos.com/dining-restaurants-food/ikea-swedish-midsummer-buffet-tickets-available-from-1-jun-2016-181093/ ]. 
LOCATION:
URL:https://singpromos.com/dining-restaurants-food/ikea-swedish-midsummer-buffet-tickets-available-from-1-jun-2016-181093/
END:VEVENT
END:VCALENDAR