BEGIN:VCALENDAR
PRODID:-//SINGPromos.com//NONSGML v1.0//EN
VERSION:2.0
CALSCALE:GREGORIAN
METHOD:PUBLISH
X-WR-CALNAME:SINGPromos.com
X-ORIGINAL-URL:https://singpromos.com
X-WR-CALDESC:Events for SINGPromos.com
BEGIN:VEVENT
DTSTART:20160602T000000
DTEND:20160731T235900
DTSTAMP:20260420T053439
CREATED:20160604T194646
LAST-MODIFIED:20160604T195334
UID:181098@https://singpromos.com
SUMMARY:IKEA Spend $50 at Restaurants & Get $50 Off In-store from 2 Jun - 31 Jul 2016
DESCRIPTION:Eat Your Way To A Discount! From 2 June to 31 July, spend $50 at the IKEA Restaurants and get $50 off your shopping spree at IKEA!. For more information, visit [ https://singpromos.com/department-stores/ikea-spend-50-at-restaurants-get-50-off-in-store-from-2-jun-31-jul-2016-181098/ ]. 
LOCATION:
URL:https://singpromos.com/department-stores/ikea-spend-50-at-restaurants-get-50-off-in-store-from-2-jun-31-jul-2016-181098/
END:VEVENT
END:VCALENDAR