BEGIN:VCALENDAR
PRODID:-//SINGPromos.com//NONSGML v1.0//EN
VERSION:2.0
CALSCALE:GREGORIAN
METHOD:PUBLISH
X-WR-CALNAME:SINGPromos.com
X-ORIGINAL-URL:https://singpromos.com
X-WR-CALDESC:Events for SINGPromos.com
BEGIN:VEVENT
DTSTART:20160610T000000
DTEND:20160623T235900
DTSTAMP:20260420T214847
CREATED:20160607T154042
LAST-MODIFIED:20160606T194458
UID:181216@https://singpromos.com
SUMMARY:Isetan Scotts European Household Bazaar from 10 - 23 Jun 2016
DESCRIPTION:Isetan Scotts will be having a European Household Bazaar from 10 - 23 June 2016. Enjoy discounts of up to 70% off Le Creuset, Brahantia, Bodum and more. For more information, visit [ https://singpromos.com/happenings/isetan-scotts-european-household-bazaar-from-10-23-jun-2016-181216/ ]. 
LOCATION:238868
URL:https://singpromos.com/happenings/isetan-scotts-european-household-bazaar-from-10-23-jun-2016-181216/
END:VEVENT
END:VCALENDAR