BEGIN:VCALENDAR
PRODID:-//SINGPromos.com//NONSGML v1.0//EN
VERSION:2.0
CALSCALE:GREGORIAN
METHOD:PUBLISH
X-WR-CALNAME:SINGPromos.com
X-ORIGINAL-URL:https://singpromos.com
X-WR-CALDESC:Events for SINGPromos.com
BEGIN:VEVENT
DTSTART:20160610T000000
DTEND:20160610T235900
DTSTAMP:20260420T172858
CREATED:20160608T200900
LAST-MODIFIED:20160608T200900
UID:181419@https://singpromos.com
SUMMARY:Joe & Dough 1-for-1 CHA Coolers Beverage (2pm to 6pm) at all outlets on 10 Jun 2016
DESCRIPTION:Joe & Dough will be offering 1-FOR-1 CHA Coolers on Friday, 10 June 2016 from 2pm to 6pm.. For more information, visit [ https://singpromos.com/dining-restaurants-food/joe-dough-1-for-1-cha-coolers-beverage-2pm-to-6pm-at-all-outlets-on-10-jun-2016-181419/ ]. 
LOCATION:
URL:https://singpromos.com/dining-restaurants-food/joe-dough-1-for-1-cha-coolers-beverage-2pm-to-6pm-at-all-outlets-on-10-jun-2016-181419/
END:VEVENT
END:VCALENDAR