BEGIN:VCALENDAR
PRODID:-//SINGPromos.com//NONSGML v1.0//EN
VERSION:2.0
CALSCALE:GREGORIAN
METHOD:PUBLISH
X-WR-CALNAME:SINGPromos.com
X-ORIGINAL-URL:https://singpromos.com
X-WR-CALDESC:Events for SINGPromos.com
BEGIN:VEVENT
DTSTART:20160612T000000
DTEND:20160619T235900
DTSTAMP:20260420T232525
CREATED:20160611T130328
LAST-MODIFIED:20160613T010510
UID:181700@https://singpromos.com
SUMMARY:Air Asia Free Seats Promotion from 12 - 19 Jun 2016
DESCRIPTION:Grab free* seats to Bali, Bandung, Jakarta, Kuala Lumpur, Krabi, Langkawi, Pattaya, Penang, Phuket, Chiang Mai, Melbourne, Seoul and many more destinations at AirAsia's FREE Seats promotion. For more information, visit [ https://singpromos.com/airlines-flights/air-asia-free-seats-promotion-from-12-19-jun-2016-181700/ ]. 
LOCATION:
URL:https://singpromos.com/airlines-flights/air-asia-free-seats-promotion-from-12-19-jun-2016-181700/
END:VEVENT
END:VCALENDAR