BEGIN:VCALENDAR
PRODID:-//SINGPromos.com//NONSGML v1.0//EN
VERSION:2.0
CALSCALE:GREGORIAN
METHOD:PUBLISH
X-WR-CALNAME:SINGPromos.com
X-ORIGINAL-URL:https://singpromos.com
X-WR-CALDESC:Events for SINGPromos.com
BEGIN:VEVENT
DTSTART:20160617T000000
DTEND:20160619T235900
DTSTAMP:20260422T185438
CREATED:20160613T120731
LAST-MODIFIED:20160613T121812
UID:181751@https://singpromos.com
SUMMARY:IT Expo 2016 at Singapore Expo from 17 - 19 Jun 2016
DESCRIPTION:IT Expo will be having its next Electronic Fair show at Singapore Expo Hall 5 from 17 June to 19 June, 11am - 9pm. Expect to find a wide range of deals electronics being cleared at low prices from brand owners such as Acer, Asus, Bosch and more. For more information, visit [ https://singpromos.com/happenings/it-expo-2016-at-singapore-expo-from-17-19-jun-2016-181751/ ]. 
LOCATION:486150
URL:https://singpromos.com/happenings/it-expo-2016-at-singapore-expo-from-17-19-jun-2016-181751/
END:VEVENT
END:VCALENDAR