BEGIN:VCALENDAR
PRODID:-//SINGPromos.com//NONSGML v1.0//EN
VERSION:2.0
CALSCALE:GREGORIAN
METHOD:PUBLISH
X-WR-CALNAME:SINGPromos.com
X-ORIGINAL-URL:https://singpromos.com
X-WR-CALDESC:Events for SINGPromos.com
BEGIN:VEVENT
DTSTART:20160618T000000
DTEND:20160619T235900
DTSTAMP:20260420T001330
CREATED:20160618T104647
LAST-MODIFIED:20160618T104647
UID:182140@https://singpromos.com
SUMMARY:Braun 71% Off Series 3 3080 Men's Electric Foil Shaver Wet/Dry 24hr Deal from 18 - 19 Jun 2016
DESCRIPTION:Get the Braun Series 3 3080 Men's Electric Foil Shaver Wet/Dry at 71% off. With MicroComb technology the series 3 catches and feeds more hair into the cutting parts, for a faster shave than ever before.. For more information, visit [ https://singpromos.com/personal-care/braun-71-off-series-3-3080-mens-electric-foil-shaver-wetdry-24hr-deal-from-18-19-jun-2016-182140/ ]. 
LOCATION:
URL:https://singpromos.com/personal-care/braun-71-off-series-3-3080-mens-electric-foil-shaver-wetdry-24hr-deal-from-18-19-jun-2016-182140/
END:VEVENT
END:VCALENDAR