BEGIN:VCALENDAR
PRODID:-//SINGPromos.com//NONSGML v1.0//EN
VERSION:2.0
CALSCALE:GREGORIAN
METHOD:PUBLISH
X-WR-CALNAME:SINGPromos.com
X-ORIGINAL-URL:https://singpromos.com
X-WR-CALDESC:Events for SINGPromos.com
BEGIN:VEVENT
DTSTART:20111105T000000
DTEND:20111106T235900
DTSTAMP:20260422T053725
CREATED:20111106T043519
LAST-MODIFIED:20111106T043519
UID:18229@https://singpromos.com
SUMMARY:AIBI Gym Equipment Roadshow Special Offers @ Plaza Singapura 5 - 6 Nov 2011
DESCRIPTION:AIBI is having a roadshow at Plaza Singapura from 5 November to 6 November. Items listed are Aibi Slamman, Aibi Body Shaker, Aibi Teeter, Aibi Gym Motorised Treadmill, Aibi Magnetic Bike and more. For more information, visit [ https://singpromos.com/body-fitness-gym/aibi-gym-equipment-roadshow-special-offers-plaza-singapura-5-6-nov-2011-18229/ ]. 
LOCATION:
URL:https://singpromos.com/body-fitness-gym/aibi-gym-equipment-roadshow-special-offers-plaza-singapura-5-6-nov-2011-18229/
END:VEVENT
END:VCALENDAR