BEGIN:VCALENDAR
PRODID:-//SINGPromos.com//NONSGML v1.0//EN
VERSION:2.0
CALSCALE:GREGORIAN
METHOD:PUBLISH
X-WR-CALNAME:SINGPromos.com
X-ORIGINAL-URL:https://singpromos.com
X-WR-CALDESC:Events for SINGPromos.com
BEGIN:VEVENT
DTSTART:20160622T000000
DTEND:20160623T235900
DTSTAMP:20260422T082319
CREATED:20160622T005527
LAST-MODIFIED:20160622T005527
UID:182323@https://singpromos.com
SUMMARY:Groupon 5% OFF Selected Deals (NO Min Spend) Coupon Code from 22 - 23 Jun 2016
DESCRIPTION:Get 5% off selected deals with the promo code below at checkout at Groupon Singapore. The promo code is valid on selected deals only.. For more information, visit [ https://singpromos.com/department-stores/groupon-5-off-selected-deals-no-min-spend-coupon-code-from-22-23-jun-2016-182323/ ]. 
LOCATION:
URL:https://singpromos.com/department-stores/groupon-5-off-selected-deals-no-min-spend-coupon-code-from-22-23-jun-2016-182323/
END:VEVENT
END:VCALENDAR