BEGIN:VCALENDAR
PRODID:-//SINGPromos.com//NONSGML v1.0//EN
VERSION:2.0
CALSCALE:GREGORIAN
METHOD:PUBLISH
X-WR-CALNAME:SINGPromos.com
X-ORIGINAL-URL:https://singpromos.com
X-WR-CALDESC:Events for SINGPromos.com
BEGIN:VEVENT
DTSTART:20160622T000000
DTEND:20160930T235900
DTSTAMP:20260420T050959
CREATED:20160623T155254
LAST-MODIFIED:20160623T155327
UID:182446@https://singpromos.com
SUMMARY:Cathay Pacific Two-to-Travel Europe & North America Promo Fares from 22 Jun - 30 Sep 2016
DESCRIPTION:Fly now with a companion to any of these cities in Europe and North America, and enjoy special two-to-travel fares from S$1,028 all-in per person.. For more information, visit [ https://singpromos.com/airlines-flights/cathay-pacific-two-to-travel-europe-north-america-promo-fares-from-22-jun-30-sep-2016-182446/ ]. 
LOCATION:
URL:https://singpromos.com/airlines-flights/cathay-pacific-two-to-travel-europe-north-america-promo-fares-from-22-jun-30-sep-2016-182446/
END:VEVENT
END:VCALENDAR