BEGIN:VCALENDAR
PRODID:-//SINGPromos.com//NONSGML v1.0//EN
VERSION:2.0
CALSCALE:GREGORIAN
METHOD:PUBLISH
X-WR-CALNAME:SINGPromos.com
X-ORIGINAL-URL:https://singpromos.com
X-WR-CALDESC:Events for SINGPromos.com
BEGIN:VEVENT
DTSTART:20160625T000000
DTEND:20160628T235900
DTSTAMP:20260422T082318
CREATED:20160625T211504
LAST-MODIFIED:20160625T211540
UID:182588@https://singpromos.com
SUMMARY:Comfort Taxi Booking App Promo Code for Booking Fee Waiver from 25 - 28 Jun 2016
DESCRIPTION:Enjoy current booking fee waiver on normal taxis booked via ComfortDelGro's Taxi Booking App when you enter the promo code below. For more information, visit [ https://singpromos.com/motor-vehicles/comfort-taxi-booking-app-promo-code-for-booking-fee-waiver-from-25-28-jun-2016-182588/ ]. 
LOCATION:
URL:https://singpromos.com/motor-vehicles/comfort-taxi-booking-app-promo-code-for-booking-fee-waiver-from-25-28-jun-2016-182588/
END:VEVENT
END:VCALENDAR