BEGIN:VCALENDAR
PRODID:-//SINGPromos.com//NONSGML v1.0//EN
VERSION:2.0
CALSCALE:GREGORIAN
METHOD:PUBLISH
X-WR-CALNAME:SINGPromos.com
X-ORIGINAL-URL:https://singpromos.com
X-WR-CALDESC:Events for SINGPromos.com
BEGIN:VEVENT
DTSTART:20160627T000000
DTEND:20160703T235900
DTSTAMP:20260420T232627
CREATED:20160627T013021
LAST-MODIFIED:20160627T013021
UID:182630@https://singpromos.com
SUMMARY:Air Asia fr $2 Base Fares Promo from 27 Jun - 3 Jul 2016
DESCRIPTION:Travel #foodprints! Fly off with Air Asia's promo fares from $2 base fares to Bandung, Kota Kinabalu, Krabi, Pattaya, Penang, Semarang and many more. For more information, visit [ https://singpromos.com/airlines-flights/air-asia-fr-2-base-fares-promo-from-27-jun-3-jul-2016-182630/ ]. 
LOCATION:
URL:https://singpromos.com/airlines-flights/air-asia-fr-2-base-fares-promo-from-27-jun-3-jul-2016-182630/
END:VEVENT
END:VCALENDAR