BEGIN:VCALENDAR
PRODID:-//SINGPromos.com//NONSGML v1.0//EN
VERSION:2.0
CALSCALE:GREGORIAN
METHOD:PUBLISH
X-WR-CALNAME:SINGPromos.com
X-ORIGINAL-URL:https://singpromos.com
X-WR-CALDESC:Events for SINGPromos.com
BEGIN:VEVENT
DTSTART:20111105T000000
DTEND:20111209T235900
DTSTAMP:20260420T163217
CREATED:20111106T193749
LAST-MODIFIED:20130415T160333
UID:18278@https://singpromos.com
SUMMARY:Courts Year End Sale Promotion 5 Nov 2011
DESCRIPTION:Courts Year End Sale has begun! Enjoy the biggest reductions in every department with up to 70% off merchandise. Win attractive prizes at the X'mas Comes Early Draw.. For more information, visit [ https://singpromos.com/computers-pc/courts-year-end-sale-promotion-5-nov-2011-18278/ ]. 
LOCATION:
URL:https://singpromos.com/computers-pc/courts-year-end-sale-promotion-5-nov-2011-18278/
END:VEVENT
END:VCALENDAR