BEGIN:VCALENDAR
PRODID:-//SINGPromos.com//NONSGML v1.0//EN
VERSION:2.0
CALSCALE:GREGORIAN
METHOD:PUBLISH
X-WR-CALNAME:SINGPromos.com
X-ORIGINAL-URL:https://singpromos.com
X-WR-CALDESC:Events for SINGPromos.com
BEGIN:VEVENT
DTSTART:20160701T000000
DTEND:20160707T235900
DTSTAMP:20260420T051000
CREATED:20160701T192229
LAST-MODIFIED:20160705T111618
UID:182999@https://singpromos.com
SUMMARY:Zalora Biggest Sports Clearance Sale featuring 20% to 50% off Puma, Reebok & More from 1 - 7 Jul 2016
DESCRIPTION:Dive in - Zalora's biggest Sports Clearance Sale ever is here and ends as early as 3 July, Sunday. For more information, visit [ https://singpromos.com/warehouse-sales/zalora-biggest-sports-clearance-sale-featuring-20-to-50-off-puma-reebok-more-from-1-3-jul-2016-182999/ ]. 
LOCATION:
URL:https://singpromos.com/warehouse-sales/zalora-biggest-sports-clearance-sale-featuring-20-to-50-off-puma-reebok-more-from-1-3-jul-2016-182999/
END:VEVENT
END:VCALENDAR