BEGIN:VCALENDAR
PRODID:-//SINGPromos.com//NONSGML v1.0//EN
VERSION:2.0
CALSCALE:GREGORIAN
METHOD:PUBLISH
X-WR-CALNAME:SINGPromos.com
X-ORIGINAL-URL:https://singpromos.com
X-WR-CALDESC:Events for SINGPromos.com
BEGIN:VEVENT
DTSTART:20160809T000000
DTEND:20160809T235900
DTSTAMP:20260420T190626
CREATED:20160708T181253
LAST-MODIFIED:20160731T130103
UID:183450@https://singpromos.com
SUMMARY:NDP 2016 Road Closure on 9 Aug 2016
DESCRIPTION:There will be a road closure during the upcoming weeks during the NE Shows, Previews as well as on the Actual day.. For more information, visit [ https://singpromos.com/news/ndp-2016-road-closures-from-9-jul-9-aug-2016-183450/ ]. 
LOCATION:
URL:https://singpromos.com/news/ndp-2016-road-closures-from-9-jul-9-aug-2016-183450/
END:VEVENT
END:VCALENDAR